BEGIN:VCALENDAR
VERSION:2.0
PRODID:-//wp-events-plugin.com//7.2.3.1//EN
TZID:America/Sao_Paulo
X-WR-TIMEZONE:America/Sao_Paulo
BEGIN:VEVENT
UID:319@paulojorge.net.br
DTSTART;TZID=America/Sao_Paulo:20210901T193000
DTEND;TZID=America/Sao_Paulo:20210901T203000
DTSTAMP:20210803T021119Z
URL:https://www.paulojorge.net.br/eventos/a-mediunidade-e-os-desafios-da-j
 ornada-palestra-espirita-rj-nilopolis-aesj/
SUMMARY:A MEDIUNIDADE E OS DESAFIOS DA JORNADA (Palestra espírita) RJ-Nilo
 polis-AESJ
DESCRIPTION:\n\n\nASSOCIAÇÃO ESPÍRITA SEARA DE JESUS\nR. Antônio João 
 Mendonça\, 83 - Centro\, Nilópolis - RJ\, 26510-608\n\n\nTelefone: (21)
  3761-8027\nFacebook: https://www.facebook.com/aesjesus/\n\n\n\n\n[s2If cu
 rrent_user_can(access_s2member_level3)]\nContato: Márcia ESPÍRITA NILÓP
 OLIS - +55 21 99163-5978\n[/s2If]                             
CATEGORIES:Palestra espírita
LOCATION:-22.811953\, -43.414025
GEO:-22.811953;-43.414025
X-APPLE-STRUCTURED-LOCATION;VALUE=URI;X-ADDRESS=Rua Antônio João Mendonç
 a\, 83\, Nilópolis\, RJ\, 26510-608\, Centro\, Brasil;X-APPLE-RADIUS=100;
 X-TITLE=RJ-Nilópolis-AESJ:geo:-22.811953,-43.414025
END:VEVENT
BEGIN:VTIMEZONE
TZID:America/Sao_Paulo
X-LIC-LOCATION:America/Sao_Paulo
BEGIN:STANDARD
DTSTART:20200901T193000
TZOFFSETFROM:-0300
TZOFFSETTO:-0300
TZNAME:-03
END:STANDARD
END:VTIMEZONE
END:VCALENDAR