BEGIN:VCALENDAR
VERSION:2.0
PRODID:-//wp-events-plugin.com//7.2.3.1//EN
TZID:America/Sao_Paulo
X-WR-TIMEZONE:America/Sao_Paulo
BEGIN:VEVENT
UID:321@paulojorge.net.br
DTSTART;TZID=America/Sao_Paulo:20211124T190000
DTEND;TZID=America/Sao_Paulo:20211124T200000
DTSTAMP:20210807T032957Z
URL:https://www.paulojorge.net.br/eventos/a-terra-palestra-espirita-rj-cab
 o-frio-osemeador-net/
SUMMARY:A TERRA (Palestra espírita) RJ-Cabo Frio-OSEMEADOR.NET
DESCRIPTION:OSEMEADOR.NET\n\n\n\n\nCentro de Divulgação e Estudos Espíri
 tas Cairbar Schutel\n\nAPOIO: CELD-CABO FRIO - R. Piracicaba\, 1 - Parque 
 Burle\, Cabo Frio - RJ\, 28910-450\n\nSite: OSEMEADOR.NET\n\n&nbsp\;\n   
                           
CATEGORIES:Palestra espírita
LOCATION:-22.880449\, -42.047991
GEO:-22.880449;-42.047991
X-APPLE-STRUCTURED-LOCATION;VALUE=URI;X-ADDRESS=Rua Piracicaba\, 1\, Cabo F
 rio\, RJ\, 28\, Brasil;X-APPLE-RADIUS=100;X-TITLE=RJ-Cabo Frio-OSEMEADOR.N
 ET:geo:-22.880449,-42.047991
END:VEVENT
BEGIN:VTIMEZONE
TZID:America/Sao_Paulo
X-LIC-LOCATION:America/Sao_Paulo
BEGIN:STANDARD
DTSTART:20201124T190000
TZOFFSETFROM:-0300
TZOFFSETTO:-0300
TZNAME:-03
END:STANDARD
END:VTIMEZONE
END:VCALENDAR