BEGIN:VCALENDAR
VERSION:2.0
PRODID:-//wp-events-plugin.com//7.2.3.1//EN
TZID:America/Sao_Paulo
X-WR-TIMEZONE:America/Sao_Paulo
BEGIN:VEVENT
UID:333@paulojorge.net.br
DTSTART;TZID=America/Sao_Paulo:20230507T170000
DTEND;TZID=America/Sao_Paulo:20230507T180000
DTSTAMP:20230925T222438Z
URL:https://www.paulojorge.net.br/eventos/bem-aventurados-os-que-tem-puro-
 o-coracao-palestra-espirita-rj-ceerj-reunir-5-35o-ceu/
SUMMARY:BEM-AVENTURADOS OS QUE TÊM PURO O CORAÇÃO (Palestra espírita) R
 J-CEERJ (Reunir 5)-35º CEU
DESCRIPTION:Casas espíritas de Iguaba Grande e São Pedro da Aldeia\nhttps
 ://www.ceerj.org.br/portal/unificacao/reunir                             
ATTACH;FMTTYPE=image/jpeg:https://www.paulojorge.net.br/wp-content/uploads
 /2023/09/IMG-20230504-WA0002.jpg
CATEGORIES:Palestra espírita
LOCATION:-22.848351\, -42.102097
GEO:-22.848351;-42.102097
X-APPLE-STRUCTURED-LOCATION;VALUE=URI;X-ADDRESS=R. Manoel Ribeiro\, 143\, S
 ão Pedro da Aldeia\, RJ\, 28940-504\, Porto da Aldeia\, Brasil;X-APPLE-RA
 DIUS=100;X-TITLE=RJ-CEERJ (Reunir 5)-35º CEU:geo:-22.848351,-42.102097
END:VEVENT
BEGIN:VTIMEZONE
TZID:America/Sao_Paulo
X-LIC-LOCATION:America/Sao_Paulo
BEGIN:STANDARD
DTSTART:20220507T170000
TZOFFSETFROM:-0300
TZOFFSETTO:-0300
TZNAME:-03
END:STANDARD
END:VTIMEZONE
END:VCALENDAR