BEGIN:VCALENDAR
VERSION:2.0
PRODID:-//wp-events-plugin.com//7.2.3.1//EN
TZID:America/Sao_Paulo
X-WR-TIMEZONE:America/Sao_Paulo
BEGIN:VEVENT
UID:318@paulojorge.net.br
DTSTART;TZID=America/Sao_Paulo:20210829T200000
DTEND;TZID=America/Sao_Paulo:20210829T210000
DTSTAMP:20210802T204612Z
URL:https://www.paulojorge.net.br/eventos/bezerra-de-menezes-a-caridade-em
 -dois-planos-palestra-espirita-df-brasilia-febos/
SUMMARY:BEZERRA DE MENEZES – A CARIDADE EM DOIS PLANOS (Palestra espírit
 a) DF-Brasília-FEBOS
DESCRIPTION:FRATERNIDADE ESPÍRITA O BOM SAMARITANO\n\n\nSetor Habitacional
  Arniqueira\, conjunto 5\, chácara 93\, área especial 02\, lote 3 CEP 71
 .995-340 Brasília\, DF\n\n\n\nhttps://www.febomsamaritano.org/\n\nhttps:/
 /www.facebook.com/febomsamaritano\n\nhttps://www.youtube.com/c/Fraternidad
 eEspíritaOBomSamaritano\n\n(61) 98218-5411\n\n[s2If current_user_can(acce
 ss_s2member_level3)]\nContato: Alexandre Magno (FEBOS-Brasília-DF) - +55 
 61 8218-5411\n[/s2If]\n\n&nbsp\;                             
ATTACH;FMTTYPE=image/jpeg:https://www.paulojorge.net.br/wp-content/uploads
 /2017/04/Bezerra-de-Menezes-A-caridade-em-dois-planos-capa.png
CATEGORIES:Palestra espírita
LOCATION:-15.872988\, -48.015033
GEO:-15.872988;-48.015033
X-APPLE-STRUCTURED-LOCATION;VALUE=URI;X-ADDRESS=Setor Habitacional Arniquei
 ra\, Brasilia\, DF\, 71995-340\, Arniqueira\, Brasil;X-APPLE-RADIUS=100;X-
 TITLE=DF-Brasília-FEBOS:geo:-15.872988,-48.015033
END:VEVENT
BEGIN:VTIMEZONE
TZID:America/Sao_Paulo
X-LIC-LOCATION:America/Sao_Paulo
BEGIN:STANDARD
DTSTART:20200829T200000
TZOFFSETFROM:-0300
TZOFFSETTO:-0300
TZNAME:-03
END:STANDARD
END:VTIMEZONE
END:VCALENDAR