BEGIN:VCALENDAR
VERSION:2.0
PRODID:-//wp-events-plugin.com//7.2.3.1//EN
TZID:America/Sao_Paulo
X-WR-TIMEZONE:America/Sao_Paulo
BEGIN:VEVENT
UID:339@paulojorge.net.br
DTSTART;TZID=America/Sao_Paulo:20250206T200000
DTEND;TZID=America/Sao_Paulo:20250206T210000
DTSTAMP:20250117T152450Z
URL:https://www.paulojorge.net.br/eventos/depressao-dor-da-alma-palestra-e
 spirita-rj-sao-fidelis-cejoc/
SUMMARY:DEPRESSÃO - DOR DA ALMA (Palestra espírita) RJ-São Fidélis-CEJO
 C
DESCRIPTION:CENTRO ESPÍRITA JOSÉ CASTRO\n\n\n\n\nRua Duque de Caxias\, 44
 4\nSão Fidélis–RJ\nTel.: (22) 2758 2022\nClique para acessar o mapa:\n
 -21.644802\, -41.754500\n\n\n\n&nbsp\;\n\nPalestras públicas: quintas-fei
 ras\, 20 h.\n\nYouTube: https://www.youtube.com/@centroespiritajosecastro5
 478\nFacebook: https://www.facebook.com/ce.josecastro\nInstagram: https:/
 /www.instagram.com/ce.josecastro/\n\nContato: Vera Lúcia (Área de Comuni
 cação) - (22) 99731-7326                             
ATTACH;FMTTYPE=image/jpeg:https://www.paulojorge.net.br/wp-content/uploads
 /2019/09/Depressão-dor-da-alma.png
CATEGORIES:Palestra espírita
LOCATION:-21.644745\, -41.754446
GEO:-21.644745;-41.754446
X-APPLE-STRUCTURED-LOCATION;VALUE=URI;X-ADDRESS=Rua Duque de Caxias 444\, S
 ão Fidélis\, RJ\, Centro\, Brasil;X-APPLE-RADIUS=100;X-TITLE=RJ-São Fid
 élis-CEJOC:geo:-21.644745,-41.754446
END:VEVENT
BEGIN:VTIMEZONE
TZID:America/Sao_Paulo
X-LIC-LOCATION:America/Sao_Paulo
BEGIN:STANDARD
DTSTART:20240207T200000
TZOFFSETFROM:-0300
TZOFFSETTO:-0300
TZNAME:-03
END:STANDARD
END:VTIMEZONE
END:VCALENDAR