BEGIN:VCALENDAR
VERSION:2.0
PRODID:-//wp-events-plugin.com//7.2.3.1//EN
TZID:America/Sao_Paulo
X-WR-TIMEZONE:America/Sao_Paulo
BEGIN:VEVENT
UID:322@paulojorge.net.br
DTSTART;TZID=America/Sao_Paulo:20211125T200000
DTEND;TZID=America/Sao_Paulo:20211125T210000
DTSTAMP:20211126T122710Z
URL:https://www.paulojorge.net.br/eventos/reencarnacao-e-sociedade-palestr
 a-espirita-rj-cabo-frio-cefl/
SUMMARY:REENCARNAÇÃO E SOCIEDADE (Palestra espírita) RJ-Cabo Frio-CEFL
DESCRIPTION:CENTRO ESPÍRITA FONTE DE LUZ\n\n\n 	34° CEU.\n 	CNPJ: 01.882.
 670/0001-41.\n 	Fundação: 11/05/1995.\n 	R HENRIQUE DIAS\, N 15.\n 	GUAR
 ANI - CABO FRIO - RJ.\n 	CEP.:28901-970 \n\n 	 Facebook\n     Instagram\n 
 	 YouTube\n    Enviar E-Mail para centroespiritafontedeluz@gmail.com\n    
 Enviar mensagem no WhatsApp para (22) 98127-1185\n\n 	Reuniões: \n\n 	5ª
  às 20h.\n 	SÁBADO às 09h.\n\n\n                             
CATEGORIES:Palestra espírita
LOCATION:-22.894622\, -42.046524
GEO:-22.894622;-42.046524
X-APPLE-STRUCTURED-LOCATION;VALUE=URI;X-ADDRESS=Rua Henrique Dias\, 15\, Ca
 bo Frio\, RJ\, 28901-970\, Guarani\, Brasil;X-APPLE-RADIUS=100;X-TITLE=RJ-
 Cabo Frio-CEFL:geo:-22.894622,-42.046524
END:VEVENT
BEGIN:VTIMEZONE
TZID:America/Sao_Paulo
X-LIC-LOCATION:America/Sao_Paulo
BEGIN:STANDARD
DTSTART:20201125T200000
TZOFFSETFROM:-0300
TZOFFSETTO:-0300
TZNAME:-03
END:STANDARD
END:VTIMEZONE
END:VCALENDAR